BEGIN:VCALENDAR
VERSION:2.0
PRODID:-//Prevention Plus, Inc - ECPv6.15.17.1//NONSGML v1.0//EN
CALSCALE:GREGORIAN
METHOD:PUBLISH
X-WR-CALNAME:Prevention Plus, Inc
X-ORIGINAL-URL:https://stroketesting.com
X-WR-CALDESC:Events for Prevention Plus, Inc
REFRESH-INTERVAL;VALUE=DURATION:PT1H
X-Robots-Tag:noindex
X-PUBLISHED-TTL:PT1H
BEGIN:VTIMEZONE
TZID:America/New_York
BEGIN:DAYLIGHT
TZOFFSETFROM:-0500
TZOFFSETTO:-0400
TZNAME:EDT
DTSTART:20240310T070000
END:DAYLIGHT
BEGIN:STANDARD
TZOFFSETFROM:-0400
TZOFFSETTO:-0500
TZNAME:EST
DTSTART:20241103T060000
END:STANDARD
BEGIN:DAYLIGHT
TZOFFSETFROM:-0500
TZOFFSETTO:-0400
TZNAME:EDT
DTSTART:20250309T070000
END:DAYLIGHT
BEGIN:STANDARD
TZOFFSETFROM:-0400
TZOFFSETTO:-0500
TZNAME:EST
DTSTART:20251102T060000
END:STANDARD
BEGIN:DAYLIGHT
TZOFFSETFROM:-0500
TZOFFSETTO:-0400
TZNAME:EDT
DTSTART:20260308T070000
END:DAYLIGHT
BEGIN:STANDARD
TZOFFSETFROM:-0400
TZOFFSETTO:-0500
TZNAME:EST
DTSTART:20261101T060000
END:STANDARD
END:VTIMEZONE
BEGIN:VEVENT
DTSTART;VALUE=DATE:20251208
DTEND;VALUE=DATE:20251209
DTSTAMP:20260419T142103
CREATED:20251120T182535Z
LAST-MODIFIED:20251120T182535Z
UID:6123-1765152000-1765238399@stroketesting.com
SUMMARY:Villages
DESCRIPTION:
URL:https://stroketesting.com/event/villages-3/
LOCATION:Holiday Inn Express (Villages)\, 1205 Avenida Central N.\, Villages\, FL\, 32159\, United States
END:VEVENT
BEGIN:VEVENT
DTSTART;VALUE=DATE:20251205
DTEND;VALUE=DATE:20251206
DTSTAMP:20260419T142103
CREATED:20251120T182403Z
LAST-MODIFIED:20251120T182403Z
UID:6119-1764892800-1764979199@stroketesting.com
SUMMARY:Largo
DESCRIPTION:
URL:https://stroketesting.com/event/largo/
LOCATION:Chantilly Health and Wellness\, 12199 Indian Rocks Rd.\, Largo\, FL\, 33774\, United States
END:VEVENT
BEGIN:VEVENT
DTSTART;VALUE=DATE:20251204
DTEND;VALUE=DATE:20251205
DTSTAMP:20260419T142103
CREATED:20251120T182334Z
LAST-MODIFIED:20251120T182334Z
UID:6117-1764806400-1764892799@stroketesting.com
SUMMARY:Brandon
DESCRIPTION:
URL:https://stroketesting.com/event/brandon-65/
LOCATION:Prevention Plus\, Inc\, 205 E Brandon Blvd.\, Ste E\,\, Brandon\, FL\, United States
END:VEVENT
BEGIN:VEVENT
DTSTART;VALUE=DATE:20251203
DTEND;VALUE=DATE:20251204
DTSTAMP:20260419T142103
CREATED:20251120T182217Z
LAST-MODIFIED:20251120T182308Z
UID:6115-1764720000-1764806399@stroketesting.com
SUMMARY:Brandon
DESCRIPTION:
URL:https://stroketesting.com/event/brandon-64/
LOCATION:Prevention Plus\, Inc\, 205 E Brandon Blvd.\, Ste E\,\, Brandon\, FL\, United States
END:VEVENT
BEGIN:VEVENT
DTSTART;VALUE=DATE:20251202
DTEND;VALUE=DATE:20251203
DTSTAMP:20260419T142103
CREATED:20251120T182142Z
LAST-MODIFIED:20251120T182142Z
UID:6113-1764633600-1764719999@stroketesting.com
SUMMARY:Brandon
DESCRIPTION:
URL:https://stroketesting.com/event/brandon-63/
LOCATION:Prevention Plus\, Inc\, 205 E Brandon Blvd.\, Ste E\,\, Brandon\, FL\, United States
END:VEVENT
BEGIN:VEVENT
DTSTART;VALUE=DATE:20251201
DTEND;VALUE=DATE:20251202
DTSTAMP:20260419T142103
CREATED:20251120T182111Z
LAST-MODIFIED:20251120T182111Z
UID:6111-1764547200-1764633599@stroketesting.com
SUMMARY:Brandon
DESCRIPTION:
URL:https://stroketesting.com/event/brandon-6/
LOCATION:Prevention Plus\, Inc\, 205 E Brandon Blvd.\, Ste E\,\, Brandon\, FL\, United States
CATEGORIES:Health Screenings
END:VEVENT
BEGIN:VEVENT
DTSTART;VALUE=DATE:20251031
DTEND;VALUE=DATE:20251101
DTSTAMP:20260419T142103
CREATED:20250906T023301Z
LAST-MODIFIED:20250906T023301Z
UID:6103-1761868800-1761955199@stroketesting.com
SUMMARY:New Port Richey
DESCRIPTION:
URL:https://stroketesting.com/event/new-port-richey-7/
LOCATION:Claude Pepper Senior Center\, 6640 Van Buren St\, New Port Richey\, FL\, 34563\, United States
END:VEVENT
BEGIN:VEVENT
DTSTART;VALUE=DATE:20251030
DTEND;VALUE=DATE:20251031
DTSTAMP:20260419T142103
CREATED:20250906T023232Z
LAST-MODIFIED:20250906T024208Z
UID:6101-1761782400-1761868799@stroketesting.com
SUMMARY:Brandon
DESCRIPTION:
URL:https://stroketesting.com/event/brandon-62/
LOCATION:Prevention Plus\, Inc\, 205 E Brandon Blvd.\, Ste E\,\, Brandon\, FL\, United States
END:VEVENT
BEGIN:VEVENT
DTSTART;VALUE=DATE:20251029
DTEND;VALUE=DATE:20251030
DTSTAMP:20260419T142103
CREATED:20250906T023158Z
LAST-MODIFIED:20250906T023158Z
UID:6099-1761696000-1761782399@stroketesting.com
SUMMARY:Poinciana
DESCRIPTION:
URL:https://stroketesting.com/event/poinciana/
LOCATION:Solivita Riviera & Fitness Ctr.\, 394 Village Dr.\, Kissimmee\, FL\, 34746\, United States
END:VEVENT
BEGIN:VEVENT
DTSTART;VALUE=DATE:20251028
DTEND;VALUE=DATE:20251029
DTSTAMP:20260419T142103
CREATED:20250906T023104Z
LAST-MODIFIED:20250906T023104Z
UID:6097-1761609600-1761695999@stroketesting.com
SUMMARY:Brandon
DESCRIPTION:
URL:https://stroketesting.com/event/brandon-61/
LOCATION:Prevention Plus\, Inc\, 205 E Brandon Blvd.\, Ste E\,\, Brandon\, FL\, United States
END:VEVENT
BEGIN:VEVENT
DTSTART;VALUE=DATE:20251027
DTEND;VALUE=DATE:20251028
DTSTAMP:20260419T142103
CREATED:20250906T023036Z
LAST-MODIFIED:20250906T023036Z
UID:6095-1761523200-1761609599@stroketesting.com
SUMMARY:Spring Hill
DESCRIPTION:
URL:https://stroketesting.com/event/spring-hill-6/
LOCATION:Acupuncture Plus Holistic Center\, 3383 Mariner Blvd\, Spring Hill\, FL\, 34623\, United States
END:VEVENT
BEGIN:VEVENT
DTSTART;VALUE=DATE:20251024
DTEND;VALUE=DATE:20251025
DTSTAMP:20260419T142103
CREATED:20250906T023003Z
LAST-MODIFIED:20250906T023003Z
UID:6093-1761264000-1761350399@stroketesting.com
SUMMARY:Brandon
DESCRIPTION:
URL:https://stroketesting.com/event/brandon-60/
LOCATION:Prevention Plus\, Inc\, 205 E Brandon Blvd.\, Ste E\,\, Brandon\, FL\, United States
END:VEVENT
BEGIN:VEVENT
DTSTART;VALUE=DATE:20251023
DTEND;VALUE=DATE:20251024
DTSTAMP:20260419T142103
CREATED:20250906T022926Z
LAST-MODIFIED:20250906T022926Z
UID:6091-1761177600-1761263999@stroketesting.com
SUMMARY:Villages
DESCRIPTION:
URL:https://stroketesting.com/event/villages-14/
LOCATION:Holiday Inn Express (Villages)\, 1205 Avenida Central N.\, Villages\, FL\, 32159\, United States
END:VEVENT
BEGIN:VEVENT
DTSTART;VALUE=DATE:20251022
DTEND;VALUE=DATE:20251023
DTSTAMP:20260419T142103
CREATED:20250906T022754Z
LAST-MODIFIED:20250906T022754Z
UID:6088-1761091200-1761177599@stroketesting.com
SUMMARY:Bartow
DESCRIPTION:
URL:https://stroketesting.com/event/bartow/
LOCATION:HR Innovation/Learning Center\, 330 West Church St\,\, Bartow\, FL\, United States
END:VEVENT
BEGIN:VEVENT
DTSTART;VALUE=DATE:20251022
DTEND;VALUE=DATE:20251023
DTSTAMP:20260419T142103
CREATED:20250906T022441Z
LAST-MODIFIED:20250906T022441Z
UID:6086-1761091200-1761177599@stroketesting.com
SUMMARY:Brandon
DESCRIPTION:
URL:https://stroketesting.com/event/brandon-59/
LOCATION:Prevention Plus\, Inc\, 205 E Brandon Blvd.\, Ste E\,\, Brandon\, FL\, United States
END:VEVENT
BEGIN:VEVENT
DTSTART;VALUE=DATE:20251021
DTEND;VALUE=DATE:20251022
DTSTAMP:20260419T142103
CREATED:20250906T022405Z
LAST-MODIFIED:20250906T022405Z
UID:6084-1761004800-1761091199@stroketesting.com
SUMMARY:Brandon
DESCRIPTION:
URL:https://stroketesting.com/event/brandon-58/
LOCATION:Prevention Plus\, Inc\, 205 E Brandon Blvd.\, Ste E\,\, Brandon\, FL\, United States
END:VEVENT
BEGIN:VEVENT
DTSTART;VALUE=DATE:20251020
DTEND;VALUE=DATE:20251021
DTSTAMP:20260419T142103
CREATED:20250906T022331Z
LAST-MODIFIED:20250906T022331Z
UID:6082-1760918400-1761004799@stroketesting.com
SUMMARY:Brandon
DESCRIPTION:
URL:https://stroketesting.com/event/brandon-57/
LOCATION:Prevention Plus\, Inc\, 205 E Brandon Blvd.\, Ste E\,\, Brandon\, FL\, United States
END:VEVENT
END:VCALENDAR