BEGIN:VCALENDAR
VERSION:2.0
PRODID:-//Prevention Plus, Inc - ECPv6.15.17.1//NONSGML v1.0//EN
CALSCALE:GREGORIAN
METHOD:PUBLISH
X-WR-CALNAME:Prevention Plus, Inc
X-ORIGINAL-URL:https://stroketesting.com
X-WR-CALDESC:Events for Prevention Plus, Inc
REFRESH-INTERVAL;VALUE=DURATION:PT1H
X-Robots-Tag:noindex
X-PUBLISHED-TTL:PT1H
BEGIN:VTIMEZONE
TZID:America/New_York
BEGIN:DAYLIGHT
TZOFFSETFROM:-0500
TZOFFSETTO:-0400
TZNAME:EDT
DTSTART:20240310T070000
END:DAYLIGHT
BEGIN:STANDARD
TZOFFSETFROM:-0400
TZOFFSETTO:-0500
TZNAME:EST
DTSTART:20241103T060000
END:STANDARD
BEGIN:DAYLIGHT
TZOFFSETFROM:-0500
TZOFFSETTO:-0400
TZNAME:EDT
DTSTART:20250309T070000
END:DAYLIGHT
BEGIN:STANDARD
TZOFFSETFROM:-0400
TZOFFSETTO:-0500
TZNAME:EST
DTSTART:20251102T060000
END:STANDARD
BEGIN:DAYLIGHT
TZOFFSETFROM:-0500
TZOFFSETTO:-0400
TZNAME:EDT
DTSTART:20260308T070000
END:DAYLIGHT
BEGIN:STANDARD
TZOFFSETFROM:-0400
TZOFFSETTO:-0500
TZNAME:EST
DTSTART:20261101T060000
END:STANDARD
BEGIN:DAYLIGHT
TZOFFSETFROM:-0500
TZOFFSETTO:-0400
TZNAME:EDT
DTSTART:20270314T070000
END:DAYLIGHT
BEGIN:STANDARD
TZOFFSETFROM:-0400
TZOFFSETTO:-0500
TZNAME:EST
DTSTART:20271107T060000
END:STANDARD
END:VTIMEZONE
BEGIN:VEVENT
DTSTART;VALUE=DATE:20260106
DTEND;VALUE=DATE:20260107
DTSTAMP:20260419T141207
CREATED:20260101T175021Z
LAST-MODIFIED:20260101T175021Z
UID:6157-1767657600-1767743999@stroketesting.com
SUMMARY:Brandon
DESCRIPTION:
URL:https://stroketesting.com/event/brandon-3/
LOCATION:Prevention Plus\, Inc\, 205 E Brandon Blvd.\, Ste E\,\, Brandon\, FL\, United States
END:VEVENT
BEGIN:VEVENT
DTSTART;VALUE=DATE:20260105
DTEND;VALUE=DATE:20260106
DTSTAMP:20260419T141207
CREATED:20260101T174932Z
LAST-MODIFIED:20260101T174932Z
UID:6154-1767571200-1767657599@stroketesting.com
SUMMARY:Brandon
DESCRIPTION:
URL:https://stroketesting.com/event/brandon-2/
LOCATION:Prevention Plus\, Inc\, 205 E Brandon Blvd.\, Ste E\,\, Brandon\, FL\, United States
END:VEVENT
BEGIN:VEVENT
DTSTART;VALUE=DATE:20260102
DTEND;VALUE=DATE:20260103
DTSTAMP:20260419T141207
CREATED:20260101T174824Z
LAST-MODIFIED:20260101T174824Z
UID:6152-1767312000-1767398399@stroketesting.com
SUMMARY:Brandon
DESCRIPTION:
URL:https://stroketesting.com/event/brandon/
LOCATION:Prevention Plus\, Inc\, 205 E Brandon Blvd.\, Ste E\,\, Brandon\, FL\, United States
END:VEVENT
BEGIN:VEVENT
DTSTART;VALUE=DATE:20251230
DTEND;VALUE=DATE:20251231
DTSTAMP:20260419T141207
CREATED:20251120T183318Z
LAST-MODIFIED:20251120T183318Z
UID:6149-1767052800-1767139199@stroketesting.com
SUMMARY:Brandon
DESCRIPTION:
URL:https://stroketesting.com/event/brandon-70/
LOCATION:Prevention Plus\, Inc\, 205 E Brandon Blvd.\, Ste E\,\, Brandon\, FL\, United States
END:VEVENT
BEGIN:VEVENT
DTSTART;VALUE=DATE:20251229
DTEND;VALUE=DATE:20251230
DTSTAMP:20260419T141207
CREATED:20251120T183224Z
LAST-MODIFIED:20251120T183224Z
UID:6147-1766966400-1767052799@stroketesting.com
SUMMARY:Spring Hill
DESCRIPTION:
URL:https://stroketesting.com/event/spring-hill/
LOCATION:Acupuncture Plus Holistic Center\, 3383 Mariner Blvd\, Spring Hill\, FL\, 34623\, United States
END:VEVENT
BEGIN:VEVENT
DTSTART;VALUE=DATE:20251223
DTEND;VALUE=DATE:20251224
DTSTAMP:20260419T141207
CREATED:20251120T183158Z
LAST-MODIFIED:20251120T183158Z
UID:6145-1766448000-1766534399@stroketesting.com
SUMMARY:Villages
DESCRIPTION:
URL:https://stroketesting.com/event/villages-4/
LOCATION:Holiday Inn Express (Villages)\, 1205 Avenida Central N.\, Villages\, FL\, 32159\, United States
END:VEVENT
BEGIN:VEVENT
DTSTART;VALUE=DATE:20251222
DTEND;VALUE=DATE:20251223
DTSTAMP:20260419T141207
CREATED:20251120T183123Z
LAST-MODIFIED:20251120T183123Z
UID:6143-1766361600-1766447999@stroketesting.com
SUMMARY:Brandon
DESCRIPTION:
URL:https://stroketesting.com/event/brandon-69/
LOCATION:Prevention Plus\, Inc\, 205 E Brandon Blvd.\, Ste E\,\, Brandon\, FL\, United States
END:VEVENT
BEGIN:VEVENT
DTSTART;VALUE=DATE:20251219
DTEND;VALUE=DATE:20251220
DTSTAMP:20260419T141207
CREATED:20251120T183029Z
LAST-MODIFIED:20251120T183029Z
UID:6141-1766102400-1766188799@stroketesting.com
SUMMARY:New Port Richey
DESCRIPTION:
URL:https://stroketesting.com/event/new-port-richey-4/
LOCATION:Claude Pepper Senior Center\, 6640 Van Buren St\, New Port Richey\, FL\, 34563\, United States
END:VEVENT
BEGIN:VEVENT
DTSTART;VALUE=DATE:20251218
DTEND;VALUE=DATE:20251219
DTSTAMP:20260419T141207
CREATED:20251120T182940Z
LAST-MODIFIED:20251120T182940Z
UID:6139-1766016000-1766102399@stroketesting.com
SUMMARY:Brandon
DESCRIPTION:
URL:https://stroketesting.com/event/brandon-68/
LOCATION:Prevention Plus\, Inc\, 205 E Brandon Blvd.\, Ste E\,\, Brandon\, FL\, United States
END:VEVENT
BEGIN:VEVENT
DTSTART;VALUE=DATE:20251217
DTEND;VALUE=DATE:20251218
DTSTAMP:20260419T141207
CREATED:20251120T182912Z
LAST-MODIFIED:20251120T182912Z
UID:6137-1765929600-1766015999@stroketesting.com
SUMMARY:Poinciana
DESCRIPTION:
URL:https://stroketesting.com/event/poinciana-2/
LOCATION:Solivita Riviera & Fitness Ctr.\, 394 Village Dr.\, Kissimmee\, FL\, 34746\, United States
END:VEVENT
BEGIN:VEVENT
DTSTART;VALUE=DATE:20251216
DTEND;VALUE=DATE:20251217
DTSTAMP:20260419T141207
CREATED:20251120T182838Z
LAST-MODIFIED:20251120T182838Z
UID:6135-1765843200-1765929599@stroketesting.com
SUMMARY:Brandon
DESCRIPTION:
URL:https://stroketesting.com/event/brandon-67/
LOCATION:Prevention Plus\, Inc\, 205 E Brandon Blvd.\, Ste E\,\, Brandon\, FL\, United States
END:VEVENT
BEGIN:VEVENT
DTSTART;VALUE=DATE:20251215
DTEND;VALUE=DATE:20251216
DTSTAMP:20260419T141207
CREATED:20251120T182812Z
LAST-MODIFIED:20251120T182812Z
UID:6133-1765756800-1765843199@stroketesting.com
SUMMARY:Sebring
DESCRIPTION:
URL:https://stroketesting.com/event/sebring/
LOCATION:La Quinta Inn\, 4115 US. 27 S.\, Sebring\, FL\, 33870\, United States
END:VEVENT
BEGIN:VEVENT
DTSTART;VALUE=DATE:20251212
DTEND;VALUE=DATE:20251213
DTSTAMP:20260419T141207
CREATED:20251120T182735Z
LAST-MODIFIED:20251120T182735Z
UID:6131-1765497600-1765583999@stroketesting.com
SUMMARY:Sarasota
DESCRIPTION:
URL:https://stroketesting.com/event/sarasota/
LOCATION:Holiday Inn Express (Sarasota)\, 5730 Gantt Rd.\, Sarasota\, FL\, 34233\, United States
END:VEVENT
BEGIN:VEVENT
DTSTART;VALUE=DATE:20251211
DTEND;VALUE=DATE:20251212
DTSTAMP:20260419T141207
CREATED:20251120T182704Z
LAST-MODIFIED:20251120T182704Z
UID:6129-1765411200-1765497599@stroketesting.com
SUMMARY:Daytona Beach
DESCRIPTION:
URL:https://stroketesting.com/event/daytona-beach/
LOCATION:Daytona Beach Shores Community Center\, 3000 Bellemead Dr.\, Daytona Beach Shores\, 32118\, United States
END:VEVENT
BEGIN:VEVENT
DTSTART;VALUE=DATE:20251210
DTEND;VALUE=DATE:20251211
DTSTAMP:20260419T141207
CREATED:20251120T182629Z
LAST-MODIFIED:20251120T182629Z
UID:6127-1765324800-1765411199@stroketesting.com
SUMMARY:Anna Maria Island
DESCRIPTION:
URL:https://stroketesting.com/event/anna-maria-island/
LOCATION:Anna Maria Island Community Center\, 407 Magnolia Ave\,\, Anna Maria Island\, FL\, 34216\, United States
END:VEVENT
BEGIN:VEVENT
DTSTART;VALUE=DATE:20251209
DTEND;VALUE=DATE:20251210
DTSTAMP:20260419T141207
CREATED:20251120T182601Z
LAST-MODIFIED:20251120T182601Z
UID:6125-1765238400-1765324799@stroketesting.com
SUMMARY:Brandon
DESCRIPTION:
URL:https://stroketesting.com/event/brandon-66/
LOCATION:Prevention Plus\, Inc\, 205 E Brandon Blvd.\, Ste E\,\, Brandon\, FL\, United States
END:VEVENT
BEGIN:VEVENT
DTSTART;VALUE=DATE:20251208
DTEND;VALUE=DATE:20251209
DTSTAMP:20260419T141207
CREATED:20251120T182535Z
LAST-MODIFIED:20251120T182535Z
UID:6123-1765152000-1765238399@stroketesting.com
SUMMARY:Villages
DESCRIPTION:
URL:https://stroketesting.com/event/villages-3/
LOCATION:Holiday Inn Express (Villages)\, 1205 Avenida Central N.\, Villages\, FL\, 32159\, United States
END:VEVENT
BEGIN:VEVENT
DTSTART;VALUE=DATE:20251205
DTEND;VALUE=DATE:20251206
DTSTAMP:20260419T141207
CREATED:20251120T182403Z
LAST-MODIFIED:20251120T182403Z
UID:6119-1764892800-1764979199@stroketesting.com
SUMMARY:Largo
DESCRIPTION:
URL:https://stroketesting.com/event/largo/
LOCATION:Chantilly Health and Wellness\, 12199 Indian Rocks Rd.\, Largo\, FL\, 33774\, United States
END:VEVENT
BEGIN:VEVENT
DTSTART;VALUE=DATE:20251204
DTEND;VALUE=DATE:20251205
DTSTAMP:20260419T141207
CREATED:20251120T182334Z
LAST-MODIFIED:20251120T182334Z
UID:6117-1764806400-1764892799@stroketesting.com
SUMMARY:Brandon
DESCRIPTION:
URL:https://stroketesting.com/event/brandon-65/
LOCATION:Prevention Plus\, Inc\, 205 E Brandon Blvd.\, Ste E\,\, Brandon\, FL\, United States
END:VEVENT
BEGIN:VEVENT
DTSTART;VALUE=DATE:20251203
DTEND;VALUE=DATE:20251204
DTSTAMP:20260419T141207
CREATED:20251120T182217Z
LAST-MODIFIED:20251120T182308Z
UID:6115-1764720000-1764806399@stroketesting.com
SUMMARY:Brandon
DESCRIPTION:
URL:https://stroketesting.com/event/brandon-64/
LOCATION:Prevention Plus\, Inc\, 205 E Brandon Blvd.\, Ste E\,\, Brandon\, FL\, United States
END:VEVENT
BEGIN:VEVENT
DTSTART;VALUE=DATE:20251202
DTEND;VALUE=DATE:20251203
DTSTAMP:20260419T141207
CREATED:20251120T182142Z
LAST-MODIFIED:20251120T182142Z
UID:6113-1764633600-1764719999@stroketesting.com
SUMMARY:Brandon
DESCRIPTION:
URL:https://stroketesting.com/event/brandon-63/
LOCATION:Prevention Plus\, Inc\, 205 E Brandon Blvd.\, Ste E\,\, Brandon\, FL\, United States
END:VEVENT
BEGIN:VEVENT
DTSTART;VALUE=DATE:20251201
DTEND;VALUE=DATE:20251202
DTSTAMP:20260419T141207
CREATED:20251120T182111Z
LAST-MODIFIED:20251120T182111Z
UID:6111-1764547200-1764633599@stroketesting.com
SUMMARY:Brandon
DESCRIPTION:
URL:https://stroketesting.com/event/brandon-6/
LOCATION:Prevention Plus\, Inc\, 205 E Brandon Blvd.\, Ste E\,\, Brandon\, FL\, United States
CATEGORIES:Health Screenings
END:VEVENT
BEGIN:VEVENT
DTSTART;VALUE=DATE:20251031
DTEND;VALUE=DATE:20251101
DTSTAMP:20260419T141207
CREATED:20250906T023301Z
LAST-MODIFIED:20250906T023301Z
UID:6103-1761868800-1761955199@stroketesting.com
SUMMARY:New Port Richey
DESCRIPTION:
URL:https://stroketesting.com/event/new-port-richey-7/
LOCATION:Claude Pepper Senior Center\, 6640 Van Buren St\, New Port Richey\, FL\, 34563\, United States
END:VEVENT
BEGIN:VEVENT
DTSTART;VALUE=DATE:20251030
DTEND;VALUE=DATE:20251031
DTSTAMP:20260419T141207
CREATED:20250906T023232Z
LAST-MODIFIED:20250906T024208Z
UID:6101-1761782400-1761868799@stroketesting.com
SUMMARY:Brandon
DESCRIPTION:
URL:https://stroketesting.com/event/brandon-62/
LOCATION:Prevention Plus\, Inc\, 205 E Brandon Blvd.\, Ste E\,\, Brandon\, FL\, United States
END:VEVENT
BEGIN:VEVENT
DTSTART;VALUE=DATE:20251029
DTEND;VALUE=DATE:20251030
DTSTAMP:20260419T141207
CREATED:20250906T023158Z
LAST-MODIFIED:20250906T023158Z
UID:6099-1761696000-1761782399@stroketesting.com
SUMMARY:Poinciana
DESCRIPTION:
URL:https://stroketesting.com/event/poinciana/
LOCATION:Solivita Riviera & Fitness Ctr.\, 394 Village Dr.\, Kissimmee\, FL\, 34746\, United States
END:VEVENT
BEGIN:VEVENT
DTSTART;VALUE=DATE:20251028
DTEND;VALUE=DATE:20251029
DTSTAMP:20260419T141207
CREATED:20250906T023104Z
LAST-MODIFIED:20250906T023104Z
UID:6097-1761609600-1761695999@stroketesting.com
SUMMARY:Brandon
DESCRIPTION:
URL:https://stroketesting.com/event/brandon-61/
LOCATION:Prevention Plus\, Inc\, 205 E Brandon Blvd.\, Ste E\,\, Brandon\, FL\, United States
END:VEVENT
BEGIN:VEVENT
DTSTART;VALUE=DATE:20251027
DTEND;VALUE=DATE:20251028
DTSTAMP:20260419T141207
CREATED:20250906T023036Z
LAST-MODIFIED:20250906T023036Z
UID:6095-1761523200-1761609599@stroketesting.com
SUMMARY:Spring Hill
DESCRIPTION:
URL:https://stroketesting.com/event/spring-hill-6/
LOCATION:Acupuncture Plus Holistic Center\, 3383 Mariner Blvd\, Spring Hill\, FL\, 34623\, United States
END:VEVENT
BEGIN:VEVENT
DTSTART;VALUE=DATE:20251024
DTEND;VALUE=DATE:20251025
DTSTAMP:20260419T141207
CREATED:20250906T023003Z
LAST-MODIFIED:20250906T023003Z
UID:6093-1761264000-1761350399@stroketesting.com
SUMMARY:Brandon
DESCRIPTION:
URL:https://stroketesting.com/event/brandon-60/
LOCATION:Prevention Plus\, Inc\, 205 E Brandon Blvd.\, Ste E\,\, Brandon\, FL\, United States
END:VEVENT
BEGIN:VEVENT
DTSTART;VALUE=DATE:20251023
DTEND;VALUE=DATE:20251024
DTSTAMP:20260419T141207
CREATED:20250906T022926Z
LAST-MODIFIED:20250906T022926Z
UID:6091-1761177600-1761263999@stroketesting.com
SUMMARY:Villages
DESCRIPTION:
URL:https://stroketesting.com/event/villages-14/
LOCATION:Holiday Inn Express (Villages)\, 1205 Avenida Central N.\, Villages\, FL\, 32159\, United States
END:VEVENT
BEGIN:VEVENT
DTSTART;VALUE=DATE:20251022
DTEND;VALUE=DATE:20251023
DTSTAMP:20260419T141207
CREATED:20250906T022754Z
LAST-MODIFIED:20250906T022754Z
UID:6088-1761091200-1761177599@stroketesting.com
SUMMARY:Bartow
DESCRIPTION:
URL:https://stroketesting.com/event/bartow/
LOCATION:HR Innovation/Learning Center\, 330 West Church St\,\, Bartow\, FL\, United States
END:VEVENT
END:VCALENDAR