BEGIN:VCALENDAR
VERSION:2.0
PRODID:-//Prevention Plus, Inc - ECPv6.15.17.1//NONSGML v1.0//EN
CALSCALE:GREGORIAN
METHOD:PUBLISH
X-WR-CALNAME:Prevention Plus, Inc
X-ORIGINAL-URL:https://stroketesting.com
X-WR-CALDESC:Events for Prevention Plus, Inc
REFRESH-INTERVAL;VALUE=DURATION:PT1H
X-Robots-Tag:noindex
X-PUBLISHED-TTL:PT1H
BEGIN:VTIMEZONE
TZID:America/New_York
BEGIN:DAYLIGHT
TZOFFSETFROM:-0500
TZOFFSETTO:-0400
TZNAME:EDT
DTSTART:20250309T070000
END:DAYLIGHT
BEGIN:STANDARD
TZOFFSETFROM:-0400
TZOFFSETTO:-0500
TZNAME:EST
DTSTART:20251102T060000
END:STANDARD
BEGIN:DAYLIGHT
TZOFFSETFROM:-0500
TZOFFSETTO:-0400
TZNAME:EDT
DTSTART:20260308T070000
END:DAYLIGHT
BEGIN:STANDARD
TZOFFSETFROM:-0400
TZOFFSETTO:-0500
TZNAME:EST
DTSTART:20261101T060000
END:STANDARD
BEGIN:DAYLIGHT
TZOFFSETFROM:-0500
TZOFFSETTO:-0400
TZNAME:EDT
DTSTART:20270314T070000
END:DAYLIGHT
BEGIN:STANDARD
TZOFFSETFROM:-0400
TZOFFSETTO:-0500
TZNAME:EST
DTSTART:20271107T060000
END:STANDARD
END:VTIMEZONE
BEGIN:VEVENT
DTSTART;VALUE=DATE:20260330
DTEND;VALUE=DATE:20260331
DTSTAMP:20260420T010623
CREATED:20260314T115945Z
LAST-MODIFIED:20260314T115945Z
UID:6439-1774828800-1774915199@stroketesting.com
SUMMARY:Davenport
DESCRIPTION:
URL:https://stroketesting.com/event/davenport-6/
LOCATION:Holiday Inn Express (Davenport)\, 4050 Hotel Dr.\, Davenport\, FL\, 33897\, United States
END:VEVENT
BEGIN:VEVENT
DTSTART;VALUE=DATE:20260331
DTEND;VALUE=DATE:20260401
DTSTAMP:20260420T010623
CREATED:20260218T025717Z
LAST-MODIFIED:20260218T025717Z
UID:6420-1774915200-1775001599@stroketesting.com
SUMMARY:Avenida Central
DESCRIPTION:
URL:https://stroketesting.com/event/avenida-central/
LOCATION:The Villages Holiday Inn Express\, 1205 Avenida Central\, The Villages\, Florida\, 32159\, United States
END:VEVENT
BEGIN:VEVENT
DTSTART;VALUE=DATE:20260331
DTEND;VALUE=DATE:20260401
DTSTAMP:20260420T010623
CREATED:20260218T025749Z
LAST-MODIFIED:20260218T025749Z
UID:6422-1774915200-1775001599@stroketesting.com
SUMMARY:Spring Hill
DESCRIPTION:
URL:https://stroketesting.com/event/spring-hill-9/
LOCATION:Timber Pines (Spring Hill)\, 6249 Timber Pines Blvd\, Spring Hill\, FL\, 34606\, United States
END:VEVENT
BEGIN:VEVENT
DTSTART;VALUE=DATE:20260401
DTEND;VALUE=DATE:20260402
DTSTAMP:20260420T010623
CREATED:20260323T225437Z
LAST-MODIFIED:20260323T225437Z
UID:6442-1775001600-1775087999@stroketesting.com
SUMMARY:Kissimmee
DESCRIPTION:
URL:https://stroketesting.com/event/kissimmee-2/
LOCATION:Solivita Riviera & Fitness Ctr.\, 394 Village Dr.\, Kissimmee\, FL\, 34746\, United States
END:VEVENT
BEGIN:VEVENT
DTSTART;VALUE=DATE:20260407
DTEND;VALUE=DATE:20260408
DTSTAMP:20260420T010623
CREATED:20260323T225719Z
LAST-MODIFIED:20260323T225719Z
UID:6445-1775520000-1775606399@stroketesting.com
SUMMARY:St. Pete
DESCRIPTION:
URL:https://stroketesting.com/event/st-pete/
LOCATION:Walter Fuller Rec Center\, 7891 26th Ave. N.\, St. Petersburg\, FL\, United States
END:VEVENT
BEGIN:VEVENT
DTSTART;VALUE=DATE:20260408
DTEND;VALUE=DATE:20260409
DTSTAMP:20260420T010623
CREATED:20260323T225752Z
LAST-MODIFIED:20260323T225752Z
UID:6448-1775606400-1775692799@stroketesting.com
SUMMARY:Land O Lakes
DESCRIPTION:
URL:https://stroketesting.com/event/land-o-lakes/
LOCATION:The Groves Golf & Country Club\, 7924 Melogold Circle\, Land O Lakes\, FL\, 34639\, United States
END:VEVENT
BEGIN:VEVENT
DTSTART;VALUE=DATE:20260408
DTEND;VALUE=DATE:20260409
DTSTAMP:20260420T010623
CREATED:20260323T225851Z
LAST-MODIFIED:20260323T225851Z
UID:6450-1775606400-1775692799@stroketesting.com
SUMMARY:Clearwater
DESCRIPTION:
URL:https://stroketesting.com/event/clearwater/
LOCATION:Holiday Inn Express (Clearwater)\, 2580 Gulf to Bay Blvd.\, Clearwater\, FL\, 33765\, United States
END:VEVENT
BEGIN:VEVENT
DTSTART;VALUE=DATE:20260410
DTEND;VALUE=DATE:20260411
DTSTAMP:20260420T010623
CREATED:20260323T230048Z
LAST-MODIFIED:20260323T230048Z
UID:6452-1775779200-1775865599@stroketesting.com
SUMMARY:Villages
DESCRIPTION:
URL:https://stroketesting.com/event/villages-2/
LOCATION:Holiday Inn Express (Villages)\, 1205 Avenida Central N.\, Villages\, FL\, 32159\, United States
END:VEVENT
BEGIN:VEVENT
DTSTART;VALUE=DATE:20260413
DTEND;VALUE=DATE:20260414
DTSTAMP:20260420T010623
CREATED:20260323T230122Z
LAST-MODIFIED:20260323T230122Z
UID:6454-1776038400-1776124799@stroketesting.com
SUMMARY:Sebring
DESCRIPTION:
URL:https://stroketesting.com/event/sebring-6/
LOCATION:La Quinta Inn\, 4115 US. 27 S.\, Sebring\, FL\, 33870\, United States
END:VEVENT
BEGIN:VEVENT
DTSTART;VALUE=DATE:20260414
DTEND;VALUE=DATE:20260415
DTSTAMP:20260420T010623
CREATED:20260323T230158Z
LAST-MODIFIED:20260323T230158Z
UID:6456-1776124800-1776211199@stroketesting.com
SUMMARY:Anna Maria
DESCRIPTION:
URL:https://stroketesting.com/event/anna-maria-2/
LOCATION:Anna Maria Island Community Center\, 407 Magnolia Ave\,\, Anna Maria Island\, FL\, 34216\, United States
END:VEVENT
BEGIN:VEVENT
DTSTART;VALUE=DATE:20260415
DTEND;VALUE=DATE:20260416
DTSTAMP:20260420T010623
CREATED:20260323T230220Z
LAST-MODIFIED:20260323T230220Z
UID:6458-1776211200-1776297599@stroketesting.com
SUMMARY:Largo
DESCRIPTION:
URL:https://stroketesting.com/event/largo-5/
LOCATION:Chantilly Health and Wellness\, 12199 Indian Rocks Rd.\, Largo\, FL\, 33774\, United States
END:VEVENT
BEGIN:VEVENT
DTSTART;VALUE=DATE:20260417
DTEND;VALUE=DATE:20260418
DTSTAMP:20260420T010623
CREATED:20260323T230254Z
LAST-MODIFIED:20260323T230254Z
UID:6460-1776384000-1776470399@stroketesting.com
SUMMARY:Sarasota
DESCRIPTION:
URL:https://stroketesting.com/event/sarasota-4/
LOCATION:Holiday Inn Express (Sarasota)\, 5730 Gantt Rd.\, Sarasota\, FL\, 34233\, United States
END:VEVENT
BEGIN:VEVENT
DTSTART;VALUE=DATE:20260420
DTEND;VALUE=DATE:20260421
DTSTAMP:20260420T010623
CREATED:20260323T230405Z
LAST-MODIFIED:20260323T230405Z
UID:6462-1776643200-1776729599@stroketesting.com
SUMMARY:Spring Hill
DESCRIPTION:
URL:https://stroketesting.com/event/spring-hill-4/
LOCATION:Acupuncture Plus Holistic Center\, 3383 Mariner Blvd\, Spring Hill\, FL\, 34623\, United States
END:VEVENT
BEGIN:VEVENT
DTSTART;VALUE=DATE:20260422
DTEND;VALUE=DATE:20260423
DTSTAMP:20260420T010623
CREATED:20260323T230503Z
LAST-MODIFIED:20260323T230503Z
UID:6464-1776816000-1776902399@stroketesting.com
SUMMARY:Brandon
DESCRIPTION:
URL:https://stroketesting.com/event/brandon-5/
LOCATION:Prevention Plus\, Inc\, 205 E Brandon Blvd.\, Ste E\,\, Brandon\, FL\, United States
END:VEVENT
BEGIN:VEVENT
DTSTART;VALUE=DATE:20260424
DTEND;VALUE=DATE:20260425
DTSTAMP:20260420T010623
CREATED:20260323T230533Z
LAST-MODIFIED:20260323T230533Z
UID:6466-1776988800-1777075199@stroketesting.com
SUMMARY:New Port Richey
DESCRIPTION:
URL:https://stroketesting.com/event/new-port-richey-6/
LOCATION:Claude Pepper Senior Center\, 6640 Van Buren St\, New Port Richey\, FL\, 34563\, United States
END:VEVENT
BEGIN:VEVENT
DTSTART;VALUE=DATE:20260427
DTEND;VALUE=DATE:20260428
DTSTAMP:20260420T010623
CREATED:20260323T230612Z
LAST-MODIFIED:20260323T230612Z
UID:6468-1777248000-1777334399@stroketesting.com
SUMMARY:Villages
DESCRIPTION:
URL:https://stroketesting.com/event/villages-9/
LOCATION:Holiday Inn Express (Villages)\, 1205 Avenida Central N.\, Villages\, FL\, 32159\, United States
END:VEVENT
BEGIN:VEVENT
DTSTART;VALUE=DATE:20260430
DTEND;VALUE=DATE:20260501
DTSTAMP:20260420T010623
CREATED:20260323T230642Z
LAST-MODIFIED:20260323T230642Z
UID:6470-1777507200-1777593599@stroketesting.com
SUMMARY:Daytona
DESCRIPTION:
URL:https://stroketesting.com/event/daytona/
LOCATION:Daytona Beach Shores Community Center\, 3000 Bellemead Dr.\, Daytona Beach Shores\, 32118\, United States
END:VEVENT
END:VCALENDAR